BEGIN:VCALENDAR
VERSION:2.0
PRODID:-//wp-events-plugin.com//7.2.3.1//EN
TZID:Europe/Berlin
X-WR-TIMEZONE:Europe/Berlin
BEGIN:VEVENT
UID:95@fws-bremen-nord.de
DTSTART;TZID=Europe/Berlin:20260520T193000
DTEND;TZID=Europe/Berlin:20260520T213000
DTSTAMP:20260424T093621Z
URL:https://www.fws-bremen-nord.de/events/elternabend-4-klasse-2/
SUMMARY:Elternabend 4. Klasse
DESCRIPTION:Der Elternabend richtet sich an die Eltern der Klassengemeinsch
 aft der 4. Klasse.
CATEGORIES:Elternabend
LOCATION:Klassenraum der 4. Klasse\, Fresenbergstraße 26\, Bremen\, 28779\
 , Deutschland
X-APPLE-STRUCTURED-LOCATION;VALUE=URI;X-ADDRESS=Fresenbergstraße 26\, Brem
 en\, 28779\, Deutschland;X-APPLE-RADIUS=100;X-TITLE=Klassenraum der 4. Kla
 sse:geo:0,0
END:VEVENT
BEGIN:VTIMEZONE
TZID:Europe/Berlin
X-LIC-LOCATION:Europe/Berlin
BEGIN:DAYLIGHT
DTSTART:20260329T030000
TZOFFSETFROM:+0100
TZOFFSETTO:+0200
TZNAME:CEST
END:DAYLIGHT
END:VTIMEZONE
END:VCALENDAR